Package: HEM Version: 1.81.0 Command: /Library/Frameworks/R.framework/Resources/bin/R CMD INSTALL HEM StartedAt: 2025-10-28 15:07:09 -0400 (Tue, 28 Oct 2025) EndedAt: 2025-10-28 15:07:10 -0400 (Tue, 28 Oct 2025) EllapsedTime: 1.5 seconds RetCode: 1 Status: ERROR