Package: HEM Version: 1.81.0 Command: /Library/Frameworks/R.framework/Resources/bin/R CMD build --keep-empty-dirs --no-resave-data HEM StartedAt: 2025-10-28 16:40:10 -0400 (Tue, 28 Oct 2025) EndedAt: 2025-10-28 16:40:11 -0400 (Tue, 28 Oct 2025) EllapsedTime: 1.0 seconds RetCode: 1 Status: ERROR PackageFile: None PackageFileSize: NA