Package: HELP Version: 1.67.0 Command: /home/biocbuild/R/R/bin/R CMD INSTALL HELP StartedAt: 2025-10-16 21:25:58 -0000 (Thu, 16 Oct 2025) EndedAt: 2025-10-16 21:26:04 -0000 (Thu, 16 Oct 2025) EllapsedTime: 6.3 seconds RetCode: 0 Status: OK