Package: HELP Version: 1.67.0 Command: /home/biocbuild/R/R/bin/R CMD build --keep-empty-dirs --no-resave-data HELP StartedAt: 2025-10-17 01:52:05 -0000 (Fri, 17 Oct 2025) EndedAt: 2025-10-17 01:52:18 -0000 (Fri, 17 Oct 2025) EllapsedTime: 13.0 seconds RetCode: 0 Status: OK PackageFile: HELP_1.67.0.tar.gz PackageFileSize: 991.8 KiB