Package: HELP Version: 1.67.0 Command: chmod a+r HELP -R && F:\biocbuild\bbs-3.22-bioc\R\bin\R.exe CMD build --keep-empty-dirs --no-resave-data HELP StartedAt: 2025-08-14 20:45:33 -0400 (Thu, 14 Aug 2025) EndedAt: 2025-08-14 20:46:06 -0400 (Thu, 14 Aug 2025) EllapsedTime: 32.6 seconds RetCode: 0 Status: OK PackageFile: HELP_1.67.0.tar.gz PackageFileSize: 895.9 KiB