Package: HELP Version: 1.67.0 Command: /home/biocbuild/bbs-3.22-bioc/R/bin/R CMD check --install=check:HELP.install-out.txt --library=/home/biocbuild/bbs-3.22-bioc/R/site-library --timings HELP_1.67.0.tar.gz StartedAt: 2025-10-06 00:41:09 -0400 (Mon, 06 Oct 2025) EndedAt: 2025-10-06 00:41:44 -0400 (Mon, 06 Oct 2025) EllapsedTime: 35.0 seconds RetCode: 0 Status: OK CheckDir: HELP.Rcheck Warnings: 0