Package: HDTD Version: 1.45.0 Command: /home/biocbuild/bbs-3.23-bioc/R/bin/R CMD INSTALL HDTD StartedAt: 2025-11-21 15:06:35 -0500 (Fri, 21 Nov 2025) EndedAt: 2025-11-21 15:07:15 -0500 (Fri, 21 Nov 2025) EllapsedTime: 40.1 seconds RetCode: 0 Status: OK