Package: HDTD Version: 1.45.0 Command: /home/biocbuild/bbs-3.23-bioc/R/bin/R CMD build --keep-empty-dirs --no-resave-data HDTD StartedAt: 2025-11-21 18:02:05 -0500 (Fri, 21 Nov 2025) EndedAt: 2025-11-21 18:02:34 -0500 (Fri, 21 Nov 2025) EllapsedTime: 29.1 seconds RetCode: 0 Status: OK PackageFile: HDTD_1.45.0.tar.gz PackageFileSize: 162.8 KiB