Package: HDTD Version: 1.45.0 Command: /Library/Frameworks/R.framework/Resources/bin/R CMD INSTALL HDTD StartedAt: 2025-11-21 15:13:23 -0500 (Fri, 21 Nov 2025) EndedAt: 2025-11-21 15:14:24 -0500 (Fri, 21 Nov 2025) EllapsedTime: 60.8 seconds RetCode: 0 Status: OK