Package: HDTD Version: 1.45.0 Command: /Library/Frameworks/R.framework/Resources/bin/R CMD build --keep-empty-dirs --no-resave-data HDTD StartedAt: 2025-11-21 17:17:27 -0500 (Fri, 21 Nov 2025) EndedAt: 2025-11-21 17:17:53 -0500 (Fri, 21 Nov 2025) EllapsedTime: 26.2 seconds RetCode: 0 Status: OK PackageFile: HDTD_1.45.0.tar.gz PackageFileSize: 162.8 KiB