Package: HDTD Version: 1.43.0 Command: /Library/Frameworks/R.framework/Resources/bin/R CMD INSTALL HDTD StartedAt: 2025-10-26 15:03:36 -0400 (Sun, 26 Oct 2025) EndedAt: 2025-10-26 15:03:52 -0400 (Sun, 26 Oct 2025) EllapsedTime: 16.3 seconds RetCode: 0 Status: OK