Package: HDF5Array Version: 1.39.0 Command: /home/biocbuild/bbs-3.23-bioc/R/bin/R CMD INSTALL HDF5Array StartedAt: 2025-11-18 16:08:37 -0500 (Tue, 18 Nov 2025) EndedAt: 2025-11-18 16:08:59 -0500 (Tue, 18 Nov 2025) EllapsedTime: 21.5 seconds RetCode: 0 Status: OK