Package: HDF5Array Version: 1.39.0 Command: /home/biocbuild/bbs-3.23-bioc/R/bin/R CMD check --install=check:HDF5Array.install-out.txt --library=/home/biocbuild/bbs-3.23-bioc/R/site-library --timings HDF5Array_1.39.0.tar.gz StartedAt: 2025-11-19 01:08:31 -0500 (Wed, 19 Nov 2025) EndedAt: 2025-11-19 01:25:09 -0500 (Wed, 19 Nov 2025) EllapsedTime: 997.8 seconds RetCode: 0 Status: OK CheckDir: HDF5Array.Rcheck Warnings: 0