Package: HDF5Array Version: 1.39.0 Command: /home/biocbuild/bbs-3.23-bioc/R/bin/R CMD build --keep-empty-dirs --no-resave-data HDF5Array StartedAt: 2025-11-18 18:53:46 -0500 (Tue, 18 Nov 2025) EndedAt: 2025-11-18 19:06:48 -0500 (Tue, 18 Nov 2025) EllapsedTime: 782.1 seconds RetCode: 0 Status: OK PackageFile: HDF5Array_1.39.0.tar.gz PackageFileSize: 7.968 MiB