Package: Gviz Version: 1.55.0 Command: /home/biocbuild/bbs-3.23-bioc/R/bin/R CMD build --keep-empty-dirs --no-resave-data Gviz StartedAt: 2025-11-04 17:55:49 -0500 (Tue, 04 Nov 2025) EndedAt: 2025-11-04 17:59:22 -0500 (Tue, 04 Nov 2025) EllapsedTime: 213.2 seconds RetCode: 0 Status: OK PackageFile: Gviz_1.55.0.tar.gz PackageFileSize: 7.319 MiB