Package: Gviz Version: 1.53.1 Command: /Library/Frameworks/R.framework/Resources/bin/R CMD INSTALL Gviz StartedAt: 2025-10-12 15:41:23 -0400 (Sun, 12 Oct 2025) EndedAt: 2025-10-12 15:42:52 -0400 (Sun, 12 Oct 2025) EllapsedTime: 88.9 seconds RetCode: 0 Status: OK