Package: Gviz Version: 1.53.1 Command: /Library/Frameworks/R.framework/Resources/bin/R CMD build --keep-empty-dirs --no-resave-data Gviz StartedAt: 2025-10-12 17:24:26 -0400 (Sun, 12 Oct 2025) EndedAt: 2025-10-12 17:29:36 -0400 (Sun, 12 Oct 2025) EllapsedTime: 309.9 seconds RetCode: 0 Status: OK PackageFile: Gviz_1.53.1.tar.gz PackageFileSize: 7.778 MiB