Package: Gviz Version: 1.53.1 Command: rm -rf Gviz.buildbin-libdir && mkdir Gviz.buildbin-libdir && /Users/biocbuild/BBS/utils/build-universal.sh Gviz_1.53.1.tar.gz /Library/Frameworks/R.framework/Resources/bin/R Gviz.buildbin-libdir StartedAt: 2025-10-13 02:36:42 -0400 (Mon, 13 Oct 2025) EndedAt: 2025-10-13 02:38:14 -0400 (Mon, 13 Oct 2025) EllapsedTime: 92.5 seconds RetCode: 0 Status: OK PackageFile: Gviz_1.53.1.tgz PackageFileSize: 7.816 MiB