Package: Guitar Version: 2.25.0 Command: /home/biocbuild/bbs-3.22-bioc/R/bin/R CMD build --keep-empty-dirs --no-resave-data --md5 Guitar StartedAt: 2025-09-29 18:18:56 -0400 (Mon, 29 Sep 2025) EndedAt: 2025-09-29 18:28:16 -0400 (Mon, 29 Sep 2025) EllapsedTime: 559.5 seconds RetCode: 0 Status: OK PackageFile: Guitar_2.25.0.tar.gz PackageFileSize: 3.72 MiB