Package: GreyListChIP Version: 1.41.1 Command: /home/biocbuild/bbs-3.22-bioc/R/bin/R CMD check --install=check:GreyListChIP.install-out.txt --library=/home/biocbuild/bbs-3.22-bioc/R/site-library --timings GreyListChIP_1.41.1.tar.gz StartedAt: 2025-10-25 00:20:27 -0400 (Sat, 25 Oct 2025) EndedAt: 2025-10-25 00:24:54 -0400 (Sat, 25 Oct 2025) EllapsedTime: 267.3 seconds RetCode: 0 Status: OK CheckDir: GreyListChIP.Rcheck Warnings: 0