Package: GreyListChIP Version: 1.43.0 Command: /home/biocbuild/bbs-3.23-bioc/R/bin/R CMD build --keep-empty-dirs --no-resave-data GreyListChIP StartedAt: 2025-11-20 17:58:17 -0500 (Thu, 20 Nov 2025) EndedAt: 2025-11-20 17:59:06 -0500 (Thu, 20 Nov 2025) EllapsedTime: 49.0 seconds RetCode: 0 Status: OK PackageFile: GreyListChIP_1.43.0.tar.gz PackageFileSize: 340.6 KiB