Package: GraphAlignment Version: 1.75.0 Command: /home/biocbuild/bbs-3.23-bioc/R/bin/R CMD check --install=check:GraphAlignment.install-out.txt --library=/home/biocbuild/bbs-3.23-bioc/R/site-library --timings GraphAlignment_1.75.0.tar.gz StartedAt: 2025-11-21 00:12:29 -0500 (Fri, 21 Nov 2025) EndedAt: 2025-11-21 00:12:48 -0500 (Fri, 21 Nov 2025) EllapsedTime: 19.1 seconds RetCode: 0 Status: WARNINGS CheckDir: GraphAlignment.Rcheck Warnings: 1