Package: GraphAT Version: 1.83.0 Command: /home/biocbuild/bbs-3.23-bioc/R/bin/R CMD INSTALL GraphAT StartedAt: 2025-10-30 15:12:04 -0400 (Thu, 30 Oct 2025) EndedAt: 2025-10-30 15:12:11 -0400 (Thu, 30 Oct 2025) EllapsedTime: 7.8 seconds RetCode: 0 Status: OK