Package: GraphAT Version: 1.83.0 Command: /home/biocbuild/bbs-3.23-bioc/R/bin/R CMD build --keep-empty-dirs --no-resave-data GraphAT StartedAt: 2025-10-30 17:23:34 -0400 (Thu, 30 Oct 2025) EndedAt: 2025-10-30 17:23:36 -0400 (Thu, 30 Oct 2025) EllapsedTime: 2.0 seconds RetCode: 0 Status: OK PackageFile: GraphAT_1.83.0.tar.gz PackageFileSize: 1.884 MiB