Package: GrafGen Version: 1.7.0 Command: /home/biocbuild/bbs-3.23-bioc/R/bin/R CMD INSTALL GrafGen StartedAt: 2025-11-06 15:15:33 -0500 (Thu, 06 Nov 2025) EndedAt: 2025-11-06 15:15:55 -0500 (Thu, 06 Nov 2025) EllapsedTime: 22.2 seconds RetCode: 0 Status: OK