Package: GrafGen Version: 1.7.0 Command: /home/biocbuild/bbs-3.23-bioc/R/bin/R CMD build --keep-empty-dirs --no-resave-data GrafGen StartedAt: 2025-11-06 17:51:39 -0500 (Thu, 06 Nov 2025) EndedAt: 2025-11-06 17:52:14 -0500 (Thu, 06 Nov 2025) EllapsedTime: 35.0 seconds RetCode: 0 Status: OK PackageFile: GrafGen_1.7.0.tar.gz PackageFileSize: 3.068 MiB