Package: GrafGen Version: 1.5.0 Command: /Library/Frameworks/R.framework/Resources/bin/R CMD build --keep-empty-dirs --no-resave-data GrafGen StartedAt: 2025-10-12 17:20:43 -0400 (Sun, 12 Oct 2025) EndedAt: 2025-10-12 17:21:26 -0400 (Sun, 12 Oct 2025) EllapsedTime: 42.3 seconds RetCode: 0 Status: OK PackageFile: GrafGen_1.5.0.tar.gz PackageFileSize: 3.103 MiB