Package: GmicR Version: 1.23.0 Command: /home/biocbuild/R/R/bin/R CMD INSTALL GmicR StartedAt: 2025-10-23 21:08:09 -0000 (Thu, 23 Oct 2025) EndedAt: 2025-10-23 21:08:46 -0000 (Thu, 23 Oct 2025) EllapsedTime: 36.6 seconds RetCode: 0 Status: OK