Package: GmicR Version: 1.23.0 Command: /home/biocbuild/R/R/bin/R CMD build --keep-empty-dirs --no-resave-data GmicR StartedAt: 2025-10-21 00:12:37 -0000 (Tue, 21 Oct 2025) EndedAt: 2025-10-21 00:28:49 -0000 (Tue, 21 Oct 2025) EllapsedTime: 972.6 seconds RetCode: 0 Status: OK PackageFile: GmicR_1.23.0.tar.gz PackageFileSize: 3.425 MiB