Package: GmicR Version: 1.25.0 Command: /home/biocbuild/bbs-3.23-bioc/R/bin/R CMD build --keep-empty-dirs --no-resave-data GmicR StartedAt: 2025-11-20 17:53:20 -0500 (Thu, 20 Nov 2025) EndedAt: 2025-11-20 18:02:37 -0500 (Thu, 20 Nov 2025) EllapsedTime: 557.5 seconds RetCode: 0 Status: OK PackageFile: GmicR_1.25.0.tar.gz PackageFileSize: 3.486 MiB