Package: GmicR Version: 1.23.0 Command: /Library/Frameworks/R.framework/Resources/bin/R CMD INSTALL GmicR StartedAt: 2025-10-13 15:40:48 -0400 (Mon, 13 Oct 2025) EndedAt: 2025-10-13 15:41:26 -0400 (Mon, 13 Oct 2025) EllapsedTime: 38.5 seconds RetCode: 0 Status: OK