Package: GmicR Version: 1.23.0 Command: rm -rf GmicR.buildbin-libdir && mkdir GmicR.buildbin-libdir && /Users/biocbuild/BBS/utils/build-universal.sh GmicR_1.23.0.tar.gz /Library/Frameworks/R.framework/Resources/bin/R GmicR.buildbin-libdir StartedAt: 2025-10-14 02:47:06 -0400 (Tue, 14 Oct 2025) EndedAt: 2025-10-14 02:47:49 -0400 (Tue, 14 Oct 2025) EllapsedTime: 43.0 seconds RetCode: 0 Status: OK PackageFile: GmicR_1.23.0.tgz PackageFileSize: 3.553 MiB