Package: GlobalAncova Version: 4.29.0 Command: /home/biocbuild/bbs-3.23-bioc/R/bin/R CMD INSTALL GlobalAncova StartedAt: 2025-11-20 15:29:29 -0500 (Thu, 20 Nov 2025) EndedAt: 2025-11-20 15:29:53 -0500 (Thu, 20 Nov 2025) EllapsedTime: 24.4 seconds RetCode: 0 Status: OK