Package: GlobalAncova Version: 4.29.0 Command: /home/biocbuild/bbs-3.23-bioc/R/bin/R CMD build --keep-empty-dirs --no-resave-data GlobalAncova StartedAt: 2025-11-20 17:51:47 -0500 (Thu, 20 Nov 2025) EndedAt: 2025-11-20 17:59:00 -0500 (Thu, 20 Nov 2025) EllapsedTime: 433.4 seconds RetCode: 0 Status: OK PackageFile: GlobalAncova_4.29.0.tar.gz PackageFileSize: 1.207 MiB