Package: GlobalAncova Version: 4.29.0 Command: /Library/Frameworks/R.framework/Resources/bin/R CMD INSTALL GlobalAncova StartedAt: 2025-11-20 15:31:20 -0500 (Thu, 20 Nov 2025) EndedAt: 2025-11-20 15:31:55 -0500 (Thu, 20 Nov 2025) EllapsedTime: 34.5 seconds RetCode: 0 Status: OK