Package: GlobalAncova Version: 4.29.0 Command: /Library/Frameworks/R.framework/Resources/bin/R CMD build --keep-empty-dirs --no-resave-data GlobalAncova StartedAt: 2025-11-20 17:11:39 -0500 (Thu, 20 Nov 2025) EndedAt: 2025-11-20 17:19:22 -0500 (Thu, 20 Nov 2025) EllapsedTime: 462.8 seconds RetCode: 0 Status: OK PackageFile: GlobalAncova_4.29.0.tar.gz PackageFileSize: 1.204 MiB