Package: GlobalAncova Version: 4.29.0 Command: rm -rf GlobalAncova.buildbin-libdir && mkdir GlobalAncova.buildbin-libdir && /Users/biocbuild/BBS/utils/build-universal.sh GlobalAncova_4.29.0.tar.gz /Library/Frameworks/R.framework/Resources/bin/R GlobalAncova.buildbin-libdir StartedAt: 2025-11-21 01:36:28 -0500 (Fri, 21 Nov 2025) EndedAt: 2025-11-21 01:37:11 -0500 (Fri, 21 Nov 2025) EllapsedTime: 42.7 seconds RetCode: 0 Status: OK PackageFile: GlobalAncova_4.29.0.tgz PackageFileSize: 1.622 MiB