Package: GlobalAncova Version: 4.27.0 Command: /Library/Frameworks/R.framework/Resources/bin/R CMD INSTALL GlobalAncova StartedAt: 2025-10-20 15:09:48 -0400 (Mon, 20 Oct 2025) EndedAt: 2025-10-20 15:10:01 -0400 (Mon, 20 Oct 2025) EllapsedTime: 12.5 seconds RetCode: 0 Status: OK