Package: GlobalAncova Version: 4.27.0 Command: /Library/Frameworks/R.framework/Resources/bin/R CMD build --keep-empty-dirs --no-resave-data GlobalAncova StartedAt: 2025-10-20 16:32:21 -0400 (Mon, 20 Oct 2025) EndedAt: 2025-10-20 16:35:28 -0400 (Mon, 20 Oct 2025) EllapsedTime: 186.9 seconds RetCode: 0 Status: OK PackageFile: GlobalAncova_4.27.0.tar.gz PackageFileSize: 1.207 MiB