Package: GloScope Version: 2.1.0 Command: /home/biocbuild/bbs-3.23-bioc/R/bin/R CMD INSTALL GloScope StartedAt: 2025-11-06 15:19:08 -0500 (Thu, 06 Nov 2025) EndedAt: 2025-11-06 15:19:35 -0500 (Thu, 06 Nov 2025) EllapsedTime: 26.4 seconds RetCode: 0 Status: OK