Package: GloScope Version: 2.1.0 Command: /home/biocbuild/bbs-3.23-bioc/R/bin/R CMD build --keep-empty-dirs --no-resave-data GloScope StartedAt: 2025-11-06 17:47:29 -0500 (Thu, 06 Nov 2025) EndedAt: 2025-11-06 17:48:36 -0500 (Thu, 06 Nov 2025) EllapsedTime: 67.0 seconds RetCode: 0 Status: OK PackageFile: GloScope_2.1.0.tar.gz PackageFileSize: 2.727 MiB