Package: GloScope Version: 2.0.0 Command: /Library/Frameworks/R.framework/Resources/bin/R CMD INSTALL GloScope StartedAt: 2025-10-29 22:06:23 -0400 (Wed, 29 Oct 2025) EndedAt: 2025-10-29 22:06:58 -0400 (Wed, 29 Oct 2025) EllapsedTime: 34.6 seconds RetCode: 0 Status: OK