Package: GloScope Version: 2.0.0 Command: /Library/Frameworks/R.framework/Resources/bin/R CMD build --keep-empty-dirs --no-resave-data GloScope StartedAt: 2025-10-29 23:51:12 -0400 (Wed, 29 Oct 2025) EndedAt: 2025-10-29 23:52:25 -0400 (Wed, 29 Oct 2025) EllapsedTime: 72.4 seconds RetCode: 0 Status: OK PackageFile: GloScope_2.0.0.tar.gz PackageFileSize: 2.73 MiB