Package: GloScope Version: 2.0.0 Command: rm -rf GloScope.buildbin-libdir && mkdir GloScope.buildbin-libdir && /Users/biocbuild/BBS/utils/build-universal.sh GloScope_2.0.0.tar.gz /Library/Frameworks/R.framework/Resources/bin/R GloScope.buildbin-libdir StartedAt: 2025-10-30 08:18:51 -0400 (Thu, 30 Oct 2025) EndedAt: 2025-10-30 08:19:30 -0400 (Thu, 30 Oct 2025) EllapsedTime: 38.9 seconds RetCode: 0 Status: OK PackageFile: GloScope_2.0.0.tgz PackageFileSize: 2.764 MiB