Package: GloScope Version: 2.1.0 Maintainer: William Torous MaintainerEmail: wtorous at berkeley.edu git_url: https://git.bioconductor.org/packages/GloScope git_branch: devel git_last_commit: 9d034c8 git_last_commit_date: 2025-10-29 11:25:16 -0400 (Wed, 29 Oct 2025)