Package: Glimma Version: 2.21.0 Command: /home/biocbuild/bbs-3.23-bioc/R/bin/R CMD build --keep-empty-dirs --no-resave-data Glimma StartedAt: 2025-11-20 17:51:35 -0500 (Thu, 20 Nov 2025) EndedAt: 2025-11-20 17:58:37 -0500 (Thu, 20 Nov 2025) EllapsedTime: 422.3 seconds RetCode: 0 Status: OK PackageFile: Glimma_2.21.0.tar.gz PackageFileSize: 11.12 MiB