Package: Glimma Version: 2.19.2 Command: /Library/Frameworks/R.framework/Resources/bin/R CMD build --keep-empty-dirs --no-resave-data Glimma StartedAt: 2025-10-13 16:32:36 -0400 (Mon, 13 Oct 2025) EndedAt: 2025-10-13 16:36:13 -0400 (Mon, 13 Oct 2025) EllapsedTime: 217.3 seconds RetCode: 0 Status: OK PackageFile: Glimma_2.19.2.tar.gz PackageFileSize: 11.12 MiB