Package: GladiaTOX Version: 1.27.0 Command: /home/biocbuild/bbs-3.23-bioc/R/bin/R CMD build --keep-empty-dirs --no-resave-data GladiaTOX StartedAt: 2025-11-20 17:51:25 -0500 (Thu, 20 Nov 2025) EndedAt: 2025-11-20 17:54:57 -0500 (Thu, 20 Nov 2025) EllapsedTime: 212.1 seconds RetCode: 0 Status: OK PackageFile: GladiaTOX_1.27.0.tar.gz PackageFileSize: 3.973 MiB