Package: GladiaTOX Version: 1.26.0 Command: /Library/Frameworks/R.framework/Resources/bin/R CMD INSTALL GladiaTOX StartedAt: 2025-10-29 21:26:49 -0400 (Wed, 29 Oct 2025) EndedAt: 2025-10-29 21:26:55 -0400 (Wed, 29 Oct 2025) EllapsedTime: 5.9 seconds RetCode: 0 Status: OK