Package: GladiaTOX Version: 1.25.3 Command: /Library/Frameworks/R.framework/Resources/bin/R CMD build --keep-empty-dirs --no-resave-data GladiaTOX StartedAt: 2025-10-28 16:32:56 -0400 (Tue, 28 Oct 2025) EndedAt: 2025-10-28 16:34:31 -0400 (Tue, 28 Oct 2025) EllapsedTime: 94.9 seconds RetCode: 0 Status: OK PackageFile: GladiaTOX_1.25.3.tar.gz PackageFileSize: 3.964 MiB